BEGIN:VCALENDAR
PRODID:-//http://statistik.d-u-v.org//PHP ultracalendar//EN
VERSION:2.0
METHOD:PUBLISH
BEGIN:VEVENT
DTSTAMP:20260423T002747
CREATED:20221002T043048
UID:1776904067.0.67623300-90416@statistik.d-u-v.org
SUMMARY:OPSF Ultra 50 Mile Race
DESCRIPTION: OPSF Ultra 50 Mile Race\n
  \n
  
DTSTART:20220326T000000
DTEND:00000000T235900
LOCATION:Poland, IN\, USA
URL:http://www.opsf5050.com/
CATEGORIES:Ultramarathon
CONTACT:
CLASS:PUBLIC
PRIORITY:5
TRANSP:OPAQUE
END:VEVENT
END:VCALENDAR
