BEGIN:VCALENDAR
PRODID:-//http://statistik.d-u-v.org//PHP ultracalendar//EN
VERSION:2.0
METHOD:PUBLISH
BEGIN:VEVENT
DTSTAMP:20260419T192313
CREATED:20221001T182445
UID:1776626593.0.59439400-90407@statistik.d-u-v.org
SUMMARY:Blood, Sweat & Beers - NV 50km Race
DESCRIPTION: Blood, Sweat & Beers - NV 50km Race\n
  \n
  info[at]desertdash.com
DTSTART:20220326T000000
DTEND:00000000T235900
LOCATION:Boulder City, NV\, USA
URL:https://www.desertdash.com/
CATEGORIES:Ultramarathon
CONTACT:
CLASS:PUBLIC
PRIORITY:5
TRANSP:OPAQUE
END:VEVENT
END:VCALENDAR
