BEGIN:VCALENDAR
PRODID:-//http://statistik.d-u-v.org//PHP ultracalendar//EN
VERSION:2.0
METHOD:PUBLISH
BEGIN:VEVENT
DTSTAMP:20260423T031352
CREATED:20221001T163431
UID:1776914032.0.23405000-90401@statistik.d-u-v.org
SUMMARY:SweetH2O 50 km
DESCRIPTION: SweetH2O 50 km\n
  Race Director Johnny Buice\n
  runlongjohn[at]yahoo.com
DTSTART:20220326T073000
DTEND:00000000T235900
LOCATION:Lithia Springs, GA\, USA
URL:https://ultrasignup.com/register.aspx?did=57408
CATEGORIES:Ultramarathon
CONTACT:Race Director Johnny Buice
CLASS:PUBLIC
PRIORITY:5
TRANSP:OPAQUE
END:VEVENT
END:VCALENDAR
