BEGIN:VCALENDAR
PRODID:-//http://statistik.d-u-v.org//PHP ultracalendar//EN
VERSION:2.0
METHOD:PUBLISH
BEGIN:VEVENT
DTSTAMP:20260423T055251
CREATED:20221001T130820
UID:1776923571.0.94050100-90381@statistik.d-u-v.org
SUMMARY:Clinton Lake Ultra
DESCRIPTION: Clinton Lake Ultra\n
  Ellen Byron\n
  clinton[at]secondwindrunningclub.org
DTSTART:20220326T073000
DTEND:00000000T235900
LOCATION:DeWitt, IL\, USA
URL:http://www.secondwindrunningclub.org/races/clinton
CATEGORIES:Ultramarathon
CONTACT:Ellen Byron
CLASS:PUBLIC
PRIORITY:5
TRANSP:OPAQUE
END:VEVENT
END:VCALENDAR
