BEGIN:VCALENDAR
PRODID:-//http://statistik.d-u-v.org//PHP ultracalendar//EN
VERSION:2.0
METHOD:PUBLISH
BEGIN:VEVENT
DTSTAMP:20260419T192459
CREATED:20220930T043442
UID:1776626699.0.17060300-90360@statistik.d-u-v.org
SUMMARY:The Namib Race (Namibia)
DESCRIPTION: The Namib Race (Namibia)\n
  Samantha Fanshawe\n
  info[at]racingtheplanet.com
DTSTART:20240428T000000
DTEND:20240504T235900
LOCATION:Swakopmund\, NAM
URL:https://www.racingtheplanet.com/namibrace
CATEGORIES:Ultramarathon
CONTACT:Samantha Fanshawe
CLASS:PUBLIC
PRIORITY:5
TRANSP:OPAQUE
END:VEVENT
END:VCALENDAR
