BEGIN:VCALENDAR
PRODID:-//http://statistik.d-u-v.org//PHP ultracalendar//EN
VERSION:2.0
METHOD:PUBLISH
BEGIN:VEVENT
DTSTAMP:20260419T223254
CREATED:20220930T160450
UID:1776637974.0.78600800-90353@statistik.d-u-v.org
SUMMARY:Stony Creek Marathon 50km Race
DESCRIPTION: Stony Creek Marathon 50km Race\n
  \n
  
DTSTART:20211107T000000
DTEND:00000000T235900
LOCATION:Utica, MI\, USA
URL:https://runsignup.com/Race/MI/Utica/StonyCreekMarathon
CATEGORIES:Ultramarathon
CONTACT:
CLASS:PUBLIC
PRIORITY:5
TRANSP:OPAQUE
END:VEVENT
END:VCALENDAR
