BEGIN:VCALENDAR
PRODID:-//http://statistik.d-u-v.org//PHP ultracalendar//EN
VERSION:2.0
METHOD:PUBLISH
BEGIN:VEVENT
DTSTAMP:20260425T170324
CREATED:20220927T042859
UID:1777136604.0.45929900-90263@statistik.d-u-v.org
SUMMARY:Osaka Yodogawa 100 Km Ultra Marathon
DESCRIPTION: Osaka Yodogawa 100 Km Ultra Marathon\n
  \n
  football[at]sportsone.co.jp
DTSTART:20221211T063000
DTEND:00000000T235900
LOCATION:Osaka\, JPN
URL:https://sportsone.jp/ultra/
CATEGORIES:Ultramarathon
CONTACT:
CLASS:PUBLIC
PRIORITY:5
TRANSP:OPAQUE
END:VEVENT
END:VCALENDAR
