BEGIN:VCALENDAR
PRODID:-//http://statistik.d-u-v.org//PHP ultracalendar//EN
VERSION:2.0
METHOD:PUBLISH
BEGIN:VEVENT
DTSTAMP:20260422T182107
CREATED:20220926T152725
UID:1776882067.0.40240700-90241@statistik.d-u-v.org
SUMMARY:Taiwania 50 Ultra Trail Come in
DESCRIPTION: Taiwania 50 Ultra Trail Come in\n
  \n
  ctau.runner[at]gmail.com
DTSTART:20220917T050000
DTEND:00000000T235900
LOCATION:Datong Township\, TPE
URL:https://docs.google.com/document/d/18oe4Ttlen34W6w3jAcEM4lKJ3XSuxMT89jyDyhAeXPk/edit
CATEGORIES:Ultramarathon
CONTACT:
CLASS:PUBLIC
PRIORITY:5
TRANSP:OPAQUE
END:VEVENT
END:VCALENDAR
