BEGIN:VCALENDAR
PRODID:-//http://statistik.d-u-v.org//PHP ultracalendar//EN
VERSION:2.0
METHOD:PUBLISH
BEGIN:VEVENT
DTSTAMP:20260423T035835
CREATED:20220922T110926
UID:1776916715.0.07959200-90165@statistik.d-u-v.org
SUMMARY:Fancy Nonsense 50 km Race
DESCRIPTION: Fancy Nonsense 50 km Race\n
  \n
  
DTSTART:20221029T000000
DTEND:00000000T235900
LOCATION:Willow Springs, IL\, USA
URL:https://cussingrunner.com/
CATEGORIES:Ultramarathon
CONTACT:
CLASS:PUBLIC
PRIORITY:5
TRANSP:OPAQUE
END:VEVENT
END:VCALENDAR
