BEGIN:VCALENDAR
PRODID:-//http://statistik.d-u-v.org//PHP ultracalendar//EN
VERSION:2.0
METHOD:PUBLISH
BEGIN:VEVENT
DTSTAMP:20260419T192240
CREATED:20220921T162923
UID:1776626560.0.68187200-90087@statistik.d-u-v.org
SUMMARY:Twin Peaks 50 km Trail Run
DESCRIPTION: Twin Peaks 50 km Trail Run\n
  \n
  connect[at]woodlandsrunningco.com
DTSTART:20211023T000000
DTEND:00000000T235900
LOCATION:Jacksonville, OR\, USA
URL:https://www.woodlandsrunningco.com/
CATEGORIES:Ultramarathon
CONTACT:
CLASS:PUBLIC
PRIORITY:5
TRANSP:OPAQUE
END:VEVENT
END:VCALENDAR
