BEGIN:VCALENDAR
PRODID:-//http://statistik.d-u-v.org//PHP ultracalendar//EN
VERSION:2.0
METHOD:PUBLISH
BEGIN:VEVENT
DTSTAMP:20260423T054055
CREATED:20220919T124044
UID:1776922855.0.41134600-90023@statistik.d-u-v.org
SUMMARY:Pulse Endurance Runs (Pickled Feet)  100 Mile
DESCRIPTION: Pulse Endurance Runs (Pickled Feet)  100 Mile\n
  \n
  pickledfeetultras[at]gmail.com
DTSTART:20220319T100000
DTEND:20220320T180000
LOCATION:Eagle, ID\, USA
URL:http://24hour.pickledfeetultras.com/
CATEGORIES:Ultramarathon
CONTACT:
CLASS:PUBLIC
PRIORITY:5
TRANSP:OPAQUE
END:VEVENT
END:VCALENDAR
