BEGIN:VCALENDAR
PRODID:-//http://statistik.d-u-v.org//PHP ultracalendar//EN
VERSION:2.0
METHOD:PUBLISH
BEGIN:VEVENT
DTSTAMP:20260423T033557
CREATED:20101112T211901
UID:1776915357.0.93656600-9001@statistik.d-u-v.org
SUMMARY:Courmayeur-Champex-Chamonix (CCC)
DESCRIPTION: Courmayeur-Champex-Chamonix (CCC)\n
  Catherine Poletti\n
  info[at]autmb.com
DTSTART:20110826T100000
DTEND:20110827T120000
LOCATION:Courmayeur\, ITA
URL:http://www.ultratrailmb.com
CATEGORIES:Ultramarathon
CONTACT:Catherine Poletti
CLASS:PUBLIC
PRIORITY:5
TRANSP:OPAQUE
END:VEVENT
END:VCALENDAR
