BEGIN:VCALENDAR
PRODID:-//http://statistik.d-u-v.org//PHP ultracalendar//EN
VERSION:2.0
METHOD:PUBLISH
BEGIN:VEVENT
DTSTAMP:20260424T192347
CREATED:20220914T181605
UID:1777058627.0.44168300-89930@statistik.d-u-v.org
SUMMARY:RUN4Kids 50 Mile Race
DESCRIPTION: RUN4Kids 50 Mile Race\n
  \n
  
DTSTART:20220312T190000
DTEND:20220313T235900
LOCATION:Corona, CA\, USA
URL:http://www.r4k24.com/
CATEGORIES:Ultramarathon
CONTACT:
CLASS:PUBLIC
PRIORITY:5
TRANSP:OPAQUE
END:VEVENT
END:VCALENDAR
