BEGIN:VCALENDAR
PRODID:-//http://statistik.d-u-v.org//PHP ultracalendar//EN
VERSION:2.0
METHOD:PUBLISH
BEGIN:VEVENT
DTSTAMP:20260419T164401
CREATED:20220914T161453
UID:1776617041.0.81848100-89920@statistik.d-u-v.org
SUMMARY:J&J Race and Trail Running Reunion 100 Km Race
DESCRIPTION: J&J Race and Trail Running Reunion 100 Km Race\n
  Chris McWatters\n
  chris[at]tejastrails.com
DTSTART:20220311T200000
DTEND:20220313T235900
LOCATION:Rocksprings, TX\, USA
URL:https://www.tejastrails.com/#/jandj/
CATEGORIES:Ultramarathon
CONTACT:Chris McWatters
CLASS:PUBLIC
PRIORITY:5
TRANSP:OPAQUE
END:VEVENT
END:VCALENDAR
