BEGIN:VCALENDAR
PRODID:-//http://statistik.d-u-v.org//PHP ultracalendar//EN
VERSION:2.0
METHOD:PUBLISH
BEGIN:VEVENT
DTSTAMP:20260423T050359
CREATED:20220914T131256
UID:1776920639.0.60776700-89902@statistik.d-u-v.org
SUMMARY:800 Heroes - Overlord of Maoli 54Km
DESCRIPTION: 800 Heroes - Overlord of Maoli 54Km\n
  \n
  
DTSTART:20230319T050000
DTEND:00000000T235900
LOCATION:Shitan Township\, TPE
URL:https://www.beclass.com/rid=2648b3462dd0ee81f895
CATEGORIES:Ultramarathon
CONTACT:
CLASS:PUBLIC
PRIORITY:5
TRANSP:OPAQUE
END:VEVENT
END:VCALENDAR
