BEGIN:VCALENDAR
PRODID:-//http://statistik.d-u-v.org//PHP ultracalendar//EN
VERSION:2.0
METHOD:PUBLISH
BEGIN:VEVENT
DTSTAMP:20260419T205113
CREATED:20220913T103247
UID:1776631873.0.80276800-89873@statistik.d-u-v.org
SUMMARY:Wienerwald Ultra Trail
DESCRIPTION: Wienerwald Ultra Trail\n
  Günther Mayer\n
  guenther.mayer[at]oenb.at
DTSTART:20230916T070000
DTEND:20230917T030000
LOCATION:Purkersdorf\, AUT
URL:https://www.wienerwaldtrail.at/
CATEGORIES:Ultramarathon
CONTACT:Günther Mayer
CLASS:PUBLIC
PRIORITY:5
TRANSP:OPAQUE
END:VEVENT
END:VCALENDAR
