BEGIN:VCALENDAR
PRODID:-//http://statistik.d-u-v.org//PHP ultracalendar//EN
VERSION:2.0
METHOD:PUBLISH
BEGIN:VEVENT
DTSTAMP:20260423T053818
CREATED:20220911T235827
UID:1776922698.0.41827900-89784@statistik.d-u-v.org
SUMMARY:Swiss Alps 100 - 100mi
DESCRIPTION: Swiss Alps 100 - 100mi\n
  Jakob Herrmann\n
  rd[at]swissalps100.com
DTSTART:20240809T083000
DTEND:20240811T093000
LOCATION:Fiesch VS\, SUI
URL:http://www.swissalps100.com
CATEGORIES:Ultramarathon
CONTACT:Jakob Herrmann
CLASS:PUBLIC
PRIORITY:5
TRANSP:OPAQUE
END:VEVENT
END:VCALENDAR
