BEGIN:VCALENDAR
PRODID:-//http://statistik.d-u-v.org//PHP ultracalendar//EN
VERSION:2.0
METHOD:PUBLISH
BEGIN:VEVENT
DTSTAMP:20260419T234440
CREATED:20220909T180651
UID:1776642280.0.34842600-89763@statistik.d-u-v.org
SUMMARY:The Tunnel Ultra 
DESCRIPTION: The Tunnel Ultra \n
  Mark Cockbain\n
  
DTSTART:20230331T000000
DTEND:20230402T235900
LOCATION:Bath\, GBR
URL:https://www.cockbainevents.com/the-tunnel
CATEGORIES:Ultramarathon
CONTACT:Mark Cockbain
CLASS:PUBLIC
PRIORITY:5
TRANSP:OPAQUE
END:VEVENT
END:VCALENDAR
