BEGIN:VCALENDAR
PRODID:-//http://statistik.d-u-v.org//PHP ultracalendar//EN
VERSION:2.0
METHOD:PUBLISH
BEGIN:VEVENT
DTSTAMP:20260423T015843
CREATED:20220908T053055
UID:1776909523.0.44794900-89705@statistik.d-u-v.org
SUMMARY:Mesquite Canyon 50 km
DESCRIPTION: Mesquite Canyon 50 km\n
  \n
  jamil[at]aravaiparunning.com
DTSTART:20220305T073000
DTEND:00000000T235900
LOCATION:Waddell, AZ\, USA
URL:https://www.aravaiparunning.com/mesquite-canyon/
CATEGORIES:Ultramarathon
CONTACT:
CLASS:PUBLIC
PRIORITY:5
TRANSP:OPAQUE
END:VEVENT
END:VCALENDAR
