BEGIN:VCALENDAR
PRODID:-//http://statistik.d-u-v.org//PHP ultracalendar//EN
VERSION:2.0
METHOD:PUBLISH
BEGIN:VEVENT
DTSTAMP:20260423T031327
CREATED:20220907T195547
UID:1776914007.0.81656000-89677@statistik.d-u-v.org
SUMMARY:Clark 6-Hour Classic
DESCRIPTION: Clark 6-Hour Classic\n
  \n
  saltcitytrailrunning[at]gmail.com
DTSTART:20221105T080000
DTEND:00000000T235900
LOCATION:Jamesville, NY\, USA
URL:https://www.saltcitytrailrunning.com/6hourclassic
CATEGORIES:Ultramarathon
CONTACT:
CLASS:PUBLIC
PRIORITY:5
TRANSP:OPAQUE
END:VEVENT
END:VCALENDAR
