BEGIN:VCALENDAR
PRODID:-//http://statistik.d-u-v.org//PHP ultracalendar//EN
VERSION:2.0
METHOD:PUBLISH
BEGIN:VEVENT
DTSTAMP:20260424T150854
CREATED:20220907T194134
UID:1777043334.0.86310800-89664@statistik.d-u-v.org
SUMMARY:Kansas Rails-to-Trails Fall Extravaganza 100 Mile
DESCRIPTION: Kansas Rails-to-Trails Fall Extravaganza 100 Mile\n
  Carolyn Robinson, Race Director\n
  carolyn[at]timerguys.com
DTSTART:20221029T060000
DTEND:20221031T235900
LOCATION:Ottawa, KS\, USA
URL:http://www.ultraextravaganza.com/
CATEGORIES:Ultramarathon
CONTACT:Carolyn Robinson, Race Director
CLASS:PUBLIC
PRIORITY:5
TRANSP:OPAQUE
END:VEVENT
END:VCALENDAR
