BEGIN:VCALENDAR
PRODID:-//http://statistik.d-u-v.org//PHP ultracalendar//EN
VERSION:2.0
METHOD:PUBLISH
BEGIN:VEVENT
DTSTAMP:20260420T012850
CREATED:20220904T194025
UID:1776648530.0.86009400-89540@statistik.d-u-v.org
SUMMARY:CM6 Run - CM3 64 Km
DESCRIPTION: CM6 Run - CM3 64 Km\n
  \n
  info[at]cm6.run
DTSTART:20220806T070000
DTEND:20220807T010000
LOCATION:Chiang Mai\, THA
URL:https://cm6.run/divi/?page_id=2004&lang=th
CATEGORIES:Ultramarathon
CONTACT:
CLASS:PUBLIC
PRIORITY:5
TRANSP:OPAQUE
END:VEVENT
END:VCALENDAR
