BEGIN:VCALENDAR
PRODID:-//http://statistik.d-u-v.org//PHP ultracalendar//EN
VERSION:2.0
METHOD:PUBLISH
BEGIN:VEVENT
DTSTAMP:20260423T014836
CREATED:20220903T125622
UID:1776908916.0.66646500-89498@statistik.d-u-v.org
SUMMARY:Salmon Falls 50 km Race
DESCRIPTION: Salmon Falls 50 km Race\n
  Race Director Tim Casagrande\n
  rd[at]colomariverraces.com
DTSTART:20220226T073000
DTEND:00000000T235900
LOCATION:Coloma, CA\, USA
URL:http://www.salmonfalls50k.com/
CATEGORIES:Ultramarathon
CONTACT:Race Director Tim Casagrande
CLASS:PUBLIC
PRIORITY:5
TRANSP:OPAQUE
END:VEVENT
END:VCALENDAR
