BEGIN:VCALENDAR
PRODID:-//http://statistik.d-u-v.org//PHP ultracalendar//EN
VERSION:2.0
METHOD:PUBLISH
BEGIN:VEVENT
DTSTAMP:20260423T033405
CREATED:20220901T171025
UID:1776915245.0.67565400-89445@statistik.d-u-v.org
SUMMARY:Red Dirt Ultra 50 Km
DESCRIPTION: Red Dirt Ultra 50 Km\n
  \n
  paixrunning[at]gmail.com
DTSTART:20220219T060000
DTEND:00000000T235900
LOCATION:Natchitoches, LA\, USA
URL:http://www.reddirtultra.com/
CATEGORIES:Ultramarathon
CONTACT:
CLASS:PUBLIC
PRIORITY:5
TRANSP:OPAQUE
END:VEVENT
END:VCALENDAR
