BEGIN:VCALENDAR
PRODID:-//http://statistik.d-u-v.org//PHP ultracalendar//EN
VERSION:2.0
METHOD:PUBLISH
BEGIN:VEVENT
DTSTAMP:20260423T031304
CREATED:20220831T171903
UID:1776913984.0.72323700-89389@statistik.d-u-v.org
SUMMARY:6 Hour Run @ SJCI
DESCRIPTION: 6 Hour Run @ SJCI\n
  \n
  
DTSTART:20210411T090000
DTEND:00000000T235900
LOCATION:Buffalo, NY\, USA
URL:https://runsignup.com/Race/NY/Buffalo/SJCI6HourRun
CATEGORIES:Ultramarathon
CONTACT:
CLASS:PUBLIC
PRIORITY:5
TRANSP:OPAQUE
END:VEVENT
END:VCALENDAR
