BEGIN:VCALENDAR
PRODID:-//http://statistik.d-u-v.org//PHP ultracalendar//EN
VERSION:2.0
METHOD:PUBLISH
BEGIN:VEVENT
DTSTAMP:20260423T014755
CREATED:20220830T134857
UID:1776908875.0.08194700-89360@statistik.d-u-v.org
SUMMARY:FarmDaze 24 Hour Run
DESCRIPTION: FarmDaze 24 Hour Run\n
  \n
  vfallon19[at]gmail.com
DTSTART:20220219T090000
DTEND:20220220T090000
LOCATION:Brooklet, GA\, USA
URL:https://www.facebook.com/FarmDaze24/
CATEGORIES:Ultramarathon
CONTACT:
CLASS:PUBLIC
PRIORITY:5
TRANSP:OPAQUE
END:VEVENT
END:VCALENDAR
