BEGIN:VCALENDAR
PRODID:-//http://statistik.d-u-v.org//PHP ultracalendar//EN
VERSION:2.0
METHOD:PUBLISH
BEGIN:VEVENT
DTSTAMP:20260423T163519
CREATED:20220829T213701
UID:1776962119.0.98540700-89316@statistik.d-u-v.org
SUMMARY:Farmdale Trail Run 100 Mile
DESCRIPTION: Farmdale Trail Run 100 Mile\n
  Race Director Jack Cook\n
  jackcookjr[at]att.net
DTSTART:20211009T050000
DTEND:20211010T235900
LOCATION:East Peoria, IL\, USA
URL:http://www.farmdaletrailrun.com/
CATEGORIES:Ultramarathon
CONTACT:Race Director Jack Cook
CLASS:PUBLIC
PRIORITY:5
TRANSP:OPAQUE
END:VEVENT
END:VCALENDAR
