BEGIN:VCALENDAR
PRODID:-//http://statistik.d-u-v.org//PHP ultracalendar//EN
VERSION:2.0
METHOD:PUBLISH
BEGIN:VEVENT
DTSTAMP:20260423T033347
CREATED:20220827T161506
UID:1776915227.0.01075600-89264@statistik.d-u-v.org
SUMMARY:12 Hours of Richmond
DESCRIPTION: 12 Hours of Richmond\n
  \n
  
DTSTART:20220219T000000
DTEND:00000000T235900
LOCATION:Powhatan, VA\, USA
URL:https://runsignup.com/Race/Results/104973#resultSetId-302052;perpage:100
CATEGORIES:Ultramarathon
CONTACT:
CLASS:PUBLIC
PRIORITY:5
TRANSP:OPAQUE
END:VEVENT
END:VCALENDAR
