BEGIN:VCALENDAR
PRODID:-//http://statistik.d-u-v.org//PHP ultracalendar//EN
VERSION:2.0
METHOD:PUBLISH
BEGIN:VEVENT
DTSTAMP:20260419T192227
CREATED:20220822T145239
UID:1776626547.0.93105200-89121@statistik.d-u-v.org
SUMMARY:Scenic Rim Ultra 65km
DESCRIPTION: Scenic Rim Ultra 65km\n
  \n
  andrew[at]ontheedgeevents.com.au
DTSTART:20220813T060000
DTEND:00000000T235900
LOCATION:Wyaralong, QLD\, AUS
URL:https://www.ontheedgeevents.com.au/run-the-rim-scenic-rim-ultra
CATEGORIES:Ultramarathon
CONTACT:
CLASS:PUBLIC
PRIORITY:5
TRANSP:OPAQUE
END:VEVENT
END:VCALENDAR
