BEGIN:VCALENDAR
PRODID:-//http://statistik.d-u-v.org//PHP ultracalendar//EN
VERSION:2.0
METHOD:PUBLISH
BEGIN:VEVENT
DTSTAMP:20260423T053750
CREATED:20220818T071052
UID:1776922670.0.99693400-89084@statistik.d-u-v.org
SUMMARY:Forbidden Forest 30-Hour Ultra Run
DESCRIPTION: Forbidden Forest 30-Hour Ultra Run\n
  Lou Loban\n
  laloban[at]yahoo.com
DTSTART:20220625T083000
DTEND:20220626T023000
LOCATION:Stratford, CT\, USA
URL:http://forbiddenforest30hourultrarun.com/
CATEGORIES:Ultramarathon
CONTACT:Lou Loban
CLASS:PUBLIC
PRIORITY:5
TRANSP:OPAQUE
END:VEVENT
END:VCALENDAR
