BEGIN:VCALENDAR
PRODID:-//http://statistik.d-u-v.org//PHP ultracalendar//EN
VERSION:2.0
METHOD:PUBLISH
BEGIN:VEVENT
DTSTAMP:20260419T192223
CREATED:20220817T202729
UID:1776626543.0.14468700-89078@statistik.d-u-v.org
SUMMARY:Barkcamp 40 Mile Race
DESCRIPTION: Barkcamp 40 Mile Race\n
  \n
  info[at]thebarkcamprace.net
DTSTART:20211002T060000
DTEND:00000000T235900
LOCATION:Belmont, OH\, USA
URL:http://www.thebarkcamprace.net/index.html
CATEGORIES:Ultramarathon
CONTACT:
CLASS:PUBLIC
PRIORITY:5
TRANSP:OPAQUE
END:VEVENT
END:VCALENDAR
