BEGIN:VCALENDAR
PRODID:-//http://statistik.d-u-v.org//PHP ultracalendar//EN
VERSION:2.0
METHOD:PUBLISH
BEGIN:VEVENT
DTSTAMP:20260423T070048
CREATED:20220817T201403
UID:1776927648.0.29490600-89068@statistik.d-u-v.org
SUMMARY:Yeti Snakebite 50 km
DESCRIPTION: Yeti Snakebite 50 km\n
  \n
  
DTSTART:20211003T190000
DTEND:20211004T235900
LOCATION:Lithia Springs, GA\, USA
URL:https://www.yetitrailrunners.com/races/2017/8/27/the-yeti-snakebite-5050-11-miler
CATEGORIES:Ultramarathon
CONTACT:
CLASS:PUBLIC
PRIORITY:5
TRANSP:OPAQUE
END:VEVENT
END:VCALENDAR
