BEGIN:VCALENDAR
PRODID:-//http://statistik.d-u-v.org//PHP ultracalendar//EN
VERSION:2.0
METHOD:PUBLISH
BEGIN:VEVENT
DTSTAMP:20260424T225407
CREATED:20220816T221318
UID:1777071247.0.53197100-89004@statistik.d-u-v.org
SUMMARY:Back On the Ranch Trail 6 Hour Run
DESCRIPTION: Back On the Ranch Trail 6 Hour Run\n
  \n
  
DTSTART:20211002T060000
DTEND:00000000T235900
LOCATION:Los Olivos, CA\, USA
URL:http://www.allwedoisrun.com/
CATEGORIES:Ultramarathon
CONTACT:
CLASS:PUBLIC
PRIORITY:5
TRANSP:OPAQUE
END:VEVENT
END:VCALENDAR
