BEGIN:VCALENDAR
PRODID:-//http://statistik.d-u-v.org//PHP ultracalendar//EN
VERSION:2.0
METHOD:PUBLISH
BEGIN:VEVENT
DTSTAMP:20260419T195111
CREATED:20220816T212055
UID:1776628271.0.51676400-88974@statistik.d-u-v.org
SUMMARY:Secret Beach 50 km Race
DESCRIPTION: Secret Beach 50 km Race\n
  James Varner\n
  email[at]rainshadowrunning.com
DTSTART:20211002T060000
DTEND:00000000T235900
LOCATION:Gold Beach, OR\, USA
URL:http://www.rainshadowrunning.com/secret-beach-100k50m.html
CATEGORIES:Ultramarathon
CONTACT:James Varner
CLASS:PUBLIC
PRIORITY:5
TRANSP:OPAQUE
END:VEVENT
END:VCALENDAR
