BEGIN:VCALENDAR
PRODID:-//http://statistik.d-u-v.org//PHP ultracalendar//EN
VERSION:2.0
METHOD:PUBLISH
BEGIN:VEVENT
DTSTAMP:20260423T033558
CREATED:20220815T125857
UID:1776915358.0.57430100-88918@statistik.d-u-v.org
SUMMARY:Orange Curtain 24 Hour Ultra Race
DESCRIPTION: Orange Curtain 24 Hour Ultra Race\n
  Race Director Yen Darcy\n
  orangecurtainrun[at]gmail.com
DTSTART:20220624T200000
DTEND:20220625T200000
LOCATION:Cerritos, CA\, USA
URL:http://www.orangecurtainrun.com/
CATEGORIES:Ultramarathon
CONTACT:Race Director Yen Darcy
CLASS:PUBLIC
PRIORITY:5
TRANSP:OPAQUE
END:VEVENT
END:VCALENDAR
