BEGIN:VCALENDAR
PRODID:-//http://statistik.d-u-v.org//PHP ultracalendar//EN
VERSION:2.0
METHOD:PUBLISH
BEGIN:VEVENT
DTSTAMP:20260424T160626
CREATED:20220814T193121
UID:1777046786.0.96888100-88908@statistik.d-u-v.org
SUMMARY:Arctic Circle Winter Race 66k
DESCRIPTION: Arctic Circle Winter Race 66k\n
  Alex S.Casanovas, Race Director\n
  races[at]rovaniemi150.com
DTSTART:20230211T100000
DTEND:00000000T235900
LOCATION:Rovaniemi\, FIN
URL:http://www.rovaniemi150.com/
CATEGORIES:Ultramarathon
CONTACT:Alex S.Casanovas, Race Director
CLASS:PUBLIC
PRIORITY:5
TRANSP:OPAQUE
END:VEVENT
END:VCALENDAR
