BEGIN:VCALENDAR
PRODID:-//http://statistik.d-u-v.org//PHP ultracalendar//EN
VERSION:2.0
METHOD:PUBLISH
BEGIN:VEVENT
DTSTAMP:20260420T050004
CREATED:20220814T100408
UID:1776661204.0.08909700-88880@statistik.d-u-v.org
SUMMARY:Hot Rod 12 Hour Ultra Day Run
DESCRIPTION: Hot Rod 12 Hour Ultra Day Run\n
  \n
  
DTSTART:20220924T000000
DTEND:00000000T235900
LOCATION:Bowling Green, KY\, USA
URL:https://runsignup.com/Race/KY/BowlingGreen/HotRod24HourUltra
CATEGORIES:Ultramarathon
CONTACT:
CLASS:PUBLIC
PRIORITY:5
TRANSP:OPAQUE
END:VEVENT
END:VCALENDAR
