BEGIN:VCALENDAR
PRODID:-//http://statistik.d-u-v.org//PHP ultracalendar//EN
VERSION:2.0
METHOD:PUBLISH
BEGIN:VEVENT
DTSTAMP:20260424T155352
CREATED:20220804T214537
UID:1777046032.0.17707500-88615@statistik.d-u-v.org
SUMMARY:Last Call 50 Miler
DESCRIPTION: Last Call 50 Miler\n
  \n
  info[at]humanpotentialrunning.com
DTSTART:20230709T120000
DTEND:00000000T235900
LOCATION:Fairplay, CO\, USA
URL:http://humanpotentialrunning.com
CATEGORIES:Ultramarathon
CONTACT:
CLASS:PUBLIC
PRIORITY:5
TRANSP:OPAQUE
END:VEVENT
END:VCALENDAR
