BEGIN:VCALENDAR
PRODID:-//http://statistik.d-u-v.org//PHP ultracalendar//EN
VERSION:2.0
METHOD:PUBLISH
BEGIN:VEVENT
DTSTAMP:20260422T222537
CREATED:20220803T164423
UID:1776896737.0.96995100-88583@statistik.d-u-v.org
SUMMARY:Chota Trail Backyard Ultra
DESCRIPTION: Chota Trail Backyard Ultra\n
  \n
  oramby117[at]gmail.com
DTSTART:20220514T080000
DTEND:20220515T070000
LOCATION:Ibarra, Imbabura\, ECU
URL:https://backyardultra.com/races/6076/
CATEGORIES:Ultramarathon
CONTACT:
CLASS:PUBLIC
PRIORITY:5
TRANSP:OPAQUE
END:VEVENT
END:VCALENDAR
