BEGIN:VCALENDAR
PRODID:-//http://statistik.d-u-v.org//PHP ultracalendar//EN
VERSION:2.0
METHOD:PUBLISH
BEGIN:VEVENT
DTSTAMP:20260420T000637
CREATED:20220802T185800
UID:1776643597.0.44488500-88557@statistik.d-u-v.org
SUMMARY:Back 9 (Swan Lake) 30 Hour Ultra Run
DESCRIPTION: Back 9 (Swan Lake) 30 Hour Ultra Run\n
  \n
  upstateultra[at]gmail.com
DTSTART:20220910T000000
DTEND:20220911T235900
LOCATION:Greenville, SC\, USA
URL:https://runsignup.com/Race/SC/Greenville/TheBack9
CATEGORIES:Ultramarathon
CONTACT:
CLASS:PUBLIC
PRIORITY:5
TRANSP:OPAQUE
END:VEVENT
END:VCALENDAR
