BEGIN:VCALENDAR
PRODID:-//http://statistik.d-u-v.org//PHP ultracalendar//EN
VERSION:2.0
METHOD:PUBLISH
BEGIN:VEVENT
DTSTAMP:20260419T192611
CREATED:20220726T164500
UID:1776626771.0.94670800-88383@statistik.d-u-v.org
SUMMARY:FANS 24 Hour Runs
DESCRIPTION: FANS 24 Hour Runs\n
  \n
  info[at]fansultraraces.org
DTSTART:19930626T000000
DTEND:19930627T235900
LOCATION:Minneapolis, MN\, USA
URL:http://www.fans24hour.org/
CATEGORIES:Ultramarathon
CONTACT:
CLASS:PUBLIC
PRIORITY:5
TRANSP:OPAQUE
END:VEVENT
END:VCALENDAR
