BEGIN:VCALENDAR
PRODID:-//http://statistik.d-u-v.org//PHP ultracalendar//EN
VERSION:2.0
METHOD:PUBLISH
BEGIN:VEVENT
DTSTAMP:20260420T005855
CREATED:20220725T152736
UID:1776646735.0.41239000-88333@statistik.d-u-v.org
SUMMARY:North Fork 50 Mile Trail Race
DESCRIPTION: North Fork 50 Mile Trail Race\n
  Janice O'Grady\n
  northfork50[at]live.com
DTSTART:20230603T070000
DTEND:00000000T235900
LOCATION:Pine, CO\, USA
URL:http://www.northfork50.com/
CATEGORIES:Ultramarathon
CONTACT:Janice O'Grady
CLASS:PUBLIC
PRIORITY:5
TRANSP:OPAQUE
END:VEVENT
END:VCALENDAR
