BEGIN:VCALENDAR
PRODID:-//http://statistik.d-u-v.org//PHP ultracalendar//EN
VERSION:2.0
METHOD:PUBLISH
BEGIN:VEVENT
DTSTAMP:20260419T183347
CREATED:20220718T123801
UID:1776623627.0.04351300-88226@statistik.d-u-v.org
SUMMARY:Ultra Adelaide 100km
DESCRIPTION: Ultra Adelaide 100km\n
  Shaun Kaesler\n
  shaun[at]ultraserieswa.com.au
DTSTART:20230708T060000
DTEND:00000000T235900
LOCATION:Adelaide, SA\, AUS
URL:https://ultraseriessa.com.au/
CATEGORIES:Ultramarathon
CONTACT:Shaun Kaesler
CLASS:PUBLIC
PRIORITY:5
TRANSP:OPAQUE
END:VEVENT
END:VCALENDAR
