BEGIN:VCALENDAR
PRODID:-//http://statistik.d-u-v.org//PHP ultracalendar//EN
VERSION:2.0
METHOD:PUBLISH
BEGIN:VEVENT
DTSTAMP:20260420T081526
CREATED:20220713T182333
UID:1776672926.0.22299700-88200@statistik.d-u-v.org
SUMMARY:Laufhaus Backyard Ultra
DESCRIPTION: Laufhaus Backyard Ultra\n
  Mike Sethmacher\n
  info[at]laufhaus-oderwitz.de
DTSTART:20230708T100000
DTEND:00000000T235900
LOCATION:Zittau\, GER
URL:http://www.laufhaus-oderwitz.de
CATEGORIES:Ultramarathon
CONTACT:Mike Sethmacher
CLASS:PUBLIC
PRIORITY:5
TRANSP:OPAQUE
END:VEVENT
END:VCALENDAR
