BEGIN:VCALENDAR
PRODID:-//http://statistik.d-u-v.org//PHP ultracalendar//EN
VERSION:2.0
METHOD:PUBLISH
BEGIN:VEVENT
DTSTAMP:20260420T024526
CREATED:20220702T163231
UID:1776653126.0.29536500-87936@statistik.d-u-v.org
SUMMARY:Double Top 50 km
DESCRIPTION: Double Top 50 km\n
  \n
  
DTSTART:20220423T070000
DTEND:00000000T235900
LOCATION:Chatsworth, GA\, USA
URL:http://ultrasignup.com/register.aspx?did=69760
CATEGORIES:Ultramarathon
CONTACT:
CLASS:PUBLIC
PRIORITY:5
TRANSP:OPAQUE
END:VEVENT
END:VCALENDAR
