BEGIN:VCALENDAR
PRODID:-//http://statistik.d-u-v.org//PHP ultracalendar//EN
VERSION:2.0
METHOD:PUBLISH
BEGIN:VEVENT
DTSTAMP:20260419T183303
CREATED:20220702T162352
UID:1776623583.0.48309500-87934@statistik.d-u-v.org
SUMMARY:Double Top 200 Mile
DESCRIPTION: Double Top 200 Mile\n
  \n
  
DTSTART:20220420T100000
DTEND:20220424T160000
LOCATION:Chatsworth, GA\, USA
URL:http://ultrasignup.com/register.aspx?did=69760
CATEGORIES:Ultramarathon
CONTACT:
CLASS:PUBLIC
PRIORITY:5
TRANSP:OPAQUE
END:VEVENT
END:VCALENDAR
