BEGIN:VCALENDAR
PRODID:-//http://statistik.d-u-v.org//PHP ultracalendar//EN
VERSION:2.0
METHOD:PUBLISH
BEGIN:VEVENT
DTSTAMP:20260419T203011
CREATED:20220702T161659
UID:1776630611.0.13918100-87932@statistik.d-u-v.org
SUMMARY:Double Top 6 Hour Run
DESCRIPTION: Double Top 6 Hour Run\n
  \n
  
DTSTART:20220423T080000
DTEND:00000000T235900
LOCATION:Chatsworth, GA\, USA
URL:https://ultrasignup.com/register.aspx?did=85700
CATEGORIES:Ultramarathon
CONTACT:
CLASS:PUBLIC
PRIORITY:5
TRANSP:OPAQUE
END:VEVENT
END:VCALENDAR
