BEGIN:VCALENDAR
PRODID:-//http://statistik.d-u-v.org//PHP ultracalendar//EN
VERSION:2.0
METHOD:PUBLISH
BEGIN:VEVENT
DTSTAMP:20260419T211202
CREATED:20220630T182352
UID:1776633122.0.80173200-87903@statistik.d-u-v.org
SUMMARY:Trail Mix Race
DESCRIPTION: Trail Mix Race\n
  \n
  
DTSTART:20220416T080000
DTEND:00000000T235900
LOCATION:Rockford, MN\, USA
URL:http://www.andersonraces.com/new-events/2018/4/21/allina-health-trail-mix
CATEGORIES:Ultramarathon
CONTACT:
CLASS:PUBLIC
PRIORITY:5
TRANSP:OPAQUE
END:VEVENT
END:VCALENDAR
