BEGIN:VCALENDAR
PRODID:-//http://statistik.d-u-v.org//PHP ultracalendar//EN
VERSION:2.0
METHOD:PUBLISH
BEGIN:VEVENT
DTSTAMP:20260421T085132
CREATED:20220628T151133
UID:1776761492.0.27971700-87829@statistik.d-u-v.org
SUMMARY:X4Trail 50km
DESCRIPTION: X4Trail 50km\n
  \n
  info[at]x4trail.ch
DTSTART:20200815T050000
DTEND:00000000T235900
LOCATION:Orsieres\, SUI
URL:https://x4trail.ch/
CATEGORIES:Ultramarathon
CONTACT:
CLASS:PUBLIC
PRIORITY:5
TRANSP:OPAQUE
END:VEVENT
END:VCALENDAR
