BEGIN:VCALENDAR
PRODID:-//http://statistik.d-u-v.org//PHP ultracalendar//EN
VERSION:2.0
METHOD:PUBLISH
BEGIN:VEVENT
DTSTAMP:20260424T190228
CREATED:20220621T090150
UID:1777057348.0.03157100-87743@statistik.d-u-v.org
SUMMARY:Strawberry Field Forever 100 Mile Trail Race
DESCRIPTION: Strawberry Field Forever 100 Mile Trail Race\n
  \n
  cgrc[at]live.com
DTSTART:20220611T090000
DTEND:20220612T235900
LOCATION:North Bonneville, WA\, USA
URL:https://columbiagorgerunningclub.com/
CATEGORIES:Ultramarathon
CONTACT:
CLASS:PUBLIC
PRIORITY:5
TRANSP:OPAQUE
END:VEVENT
END:VCALENDAR
